BEGIN:VCALENDAR
VERSION:2.0
PRODID:-//Plone.org//NONSGML plone.app.event//EN
X-WR-TIMEZONE:US/Eastern
BEGIN:VEVENT
SUMMARY:April 2019 Book Club
DTSTART;TZID=US/Eastern:20190415T183000
DTEND;TZID=US/Eastern:20190415T193000
DTSTAMP:20260419T123716Z
UID:8f17ff9985274a8089590a899e3fe46c@saas_stack_varnish:6080
CONTACT:Stephanie Daniels\, (269)621-3408\, hartfordlibrary2000@yahoo.com
CREATED:20190103T170433Z
DESCRIPTION:The Hartford Public Library Book Club meets the third Monday o
 f the month at 6:30 pm.
LAST-MODIFIED:20190103T170506Z
LOCATION:Hartford Public Library
URL:https://www.hartfordpl.michlibrary.org/news-events/lib-cal/april-2019-
 book-club
END:VEVENT
BEGIN:VTIMEZONE
TZID:US/Eastern
X-LIC-LOCATION:US/Eastern
BEGIN:DAYLIGHT
DTSTART:20190310T030000
TZNAME:EDT
TZOFFSETFROM:-0500
TZOFFSETTO:-0400
END:DAYLIGHT
END:VTIMEZONE
END:VCALENDAR
