BEGIN:VCALENDAR
VERSION:2.0
PRODID:-//Plone.org//NONSGML plone.app.event//EN
X-WR-TIMEZONE:US/Eastern
BEGIN:VEVENT
SUMMARY:Free Advance Excel Class
DTSTART;TZID=US/Eastern:20171009T170000
DTEND;TZID=US/Eastern:20171009T190000
DTSTAMP:20260424T013301Z
UID:31071d98e6934270a16d43b71cc8a4c1@saas_stack_varnish:6080
CONTACT:Stephanie Daniels\, 269-621-3408\, hartfordlibrary2000@yahoo.com
CREATED:20170817T152747Z
DESCRIPTION:Join us for this free two session Excel Class October 2nd & 9t
 h.
LAST-MODIFIED:20170817T153018Z
LOCATION:Hartford Public Library
URL:https://www.hartfordpl.michlibrary.org/news-events/lib-cal/free-advanc
 e-excel-class/2017-10-09
END:VEVENT
BEGIN:VTIMEZONE
TZID:US/Eastern
X-LIC-LOCATION:US/Eastern
BEGIN:DAYLIGHT
DTSTART:20170312T030000
TZNAME:EDT
TZOFFSETFROM:-0500
TZOFFSETTO:-0400
END:DAYLIGHT
END:VTIMEZONE
END:VCALENDAR
