BEGIN:VCALENDAR
VERSION:2.0
PRODID:-//Plone.org//NONSGML plone.app.event//EN
X-WR-TIMEZONE:US/Eastern
BEGIN:VEVENT
SUMMARY:Hartford Public Library Book Club
DTSTART;TZID=US/Eastern:20130520T190000
DTEND;TZID=US/Eastern:20130520T200000
DTSTAMP:20260426T032717Z
UID:645d8c6e83f1ca6800da129b3af4b5f8@saas_stack_varnish:6080
CONTACT:Stephanie Daniels\, 269-621-3408\, hartfordlibrary2000@yahoo.com
CREATED:20130424T154355Z
DESCRIPTION:The Hartford Public Library Book Club meets the third Monday o
 f the month @ 7PM.
LAST-MODIFIED:20150715T183936Z
LOCATION:Hartford Public Library
URL:https://www.hartfordpl.michlibrary.org/news-events/lib-cal/hartford-pu
 blic-library-book-club.ics
END:VEVENT
BEGIN:VTIMEZONE
TZID:US/Eastern
X-LIC-LOCATION:US/Eastern
BEGIN:DAYLIGHT
DTSTART:20130310T030000
TZNAME:EDT
TZOFFSETFROM:-0500
TZOFFSETTO:-0400
END:DAYLIGHT
END:VTIMEZONE
END:VCALENDAR
