BEGIN:VCALENDAR
VERSION:2.0
PRODID:-//Plone.org//NONSGML plone.app.event//EN
X-WR-TIMEZONE:US/Eastern
BEGIN:VEVENT
SUMMARY:Library Closed
DTSTART;TZID=US/Eastern:20161124T100000
DTEND;TZID=US/Eastern:20161124T170000
DTSTAMP:20260423T092753Z
UID:a088ac2417774804bbd91604caea4d46@saas_stack_varnish:6080
CONTACT:Stephanie Daniels\, (269)621-3408\, hartfordlibrary2000@yahoo.com
CREATED:20160831T182509Z
DESCRIPTION:The library will be closed Thursday November 24th.
LAST-MODIFIED:20160831T182514Z
URL:https://www.hartfordpl.michlibrary.org/news-events/lib-cal/library-clo
 sed-4
END:VEVENT
BEGIN:VTIMEZONE
TZID:US/Eastern
X-LIC-LOCATION:US/Eastern
BEGIN:STANDARD
DTSTART:20161106T010000
TZNAME:EST
TZOFFSETFROM:-0400
TZOFFSETTO:-0500
END:STANDARD
END:VTIMEZONE
END:VCALENDAR
