BEGIN:VCALENDAR
VERSION:2.0
PRODID:-//Plone.org//NONSGML plone.app.event//EN
X-WR-TIMEZONE:US/Eastern
BEGIN:VEVENT
SUMMARY:Summer Reading Program Kick Off
DTSTART;TZID=US/Eastern:20150624T113000
DTEND;TZID=US/Eastern:20150624T123000
DTSTAMP:20260420T210342Z
UID:e0044eb6000bd22653939ad0f0c226e2@saas_stack_varnish:6080
CONTACT:Stephanie Daniels\, 269-621-3408\, hartfordlibrary2000@yahoo.com
CREATED:20150401T203328Z
DESCRIPTION:Join us Wednesday June 24th at 11:30 for Nelson the Animal Guy
  Wildlife Safari.
LAST-MODIFIED:20150715T183941Z
LOCATION:Hartford Public Library
URL:https://www.hartfordpl.michlibrary.org/news-events/lib-cal/summer-read
 ing-program-kick-off.ics
END:VEVENT
BEGIN:VTIMEZONE
TZID:US/Eastern
X-LIC-LOCATION:US/Eastern
BEGIN:DAYLIGHT
DTSTART:20150308T030000
TZNAME:EDT
TZOFFSETFROM:-0500
TZOFFSETTO:-0400
END:DAYLIGHT
END:VTIMEZONE
END:VCALENDAR
